BEGIN:VCALENDAR
VERSION:2.0
PRODID:-//Galway Hooker Ireland - ECPv6.15.20//NONSGML v1.0//EN
CALSCALE:GREGORIAN
METHOD:PUBLISH
X-ORIGINAL-URL:https://galwayhooker.ie
X-WR-CALDESC:Events for Galway Hooker Ireland
REFRESH-INTERVAL;VALUE=DURATION:PT1H
X-Robots-Tag:noindex
X-PUBLISHED-TTL:PT1H
BEGIN:VTIMEZONE
TZID:UTC
BEGIN:STANDARD
TZOFFSETFROM:+0000
TZOFFSETTO:+0000
TZNAME:UTC
DTSTART:20230101T000000
END:STANDARD
END:VTIMEZONE
BEGIN:VEVENT
DTSTART;TZID=UTC:20240727T153000
DTEND;TZID=UTC:20240727T213000
DTSTAMP:20260423T105612
CREATED:20240627T154115Z
LAST-MODIFIED:20240627T154336Z
UID:2675-1722094200-1722115800@galwayhooker.ie
SUMMARY:Saturday 27th July Galway Hooker Secret Sessions
DESCRIPTION:Join us for the Galway Hooker Secret Sessions! \n\n Hidden away in a top-secret Galway location\, we’re serving up buckets of craic\, epic brews\, and top-notch vibes. 🍻 \n\n Sip on our classic range and sample our seasonalbeers in collaboration with local artist Cathy Hughes. \n\n Be the first to sip on our two brand-new brews. Plus\, snag some exclusive merch to remember the fun!Tickets are just €5 and come with a free beer –what’s not to like!
URL:https://galwayhooker.ie/event/saturday-27th-july-galway-hooker-secret-sessions/
LOCATION:Galway Hooker Secret Sessions\, Secret Location\, Galway\, Ireland
END:VEVENT
END:VCALENDAR